BEGIN:VCALENDAR
VERSION:2.0
PRODID:-//  - ECPv6.0.13//NONSGML v1.0//EN
CALSCALE:GREGORIAN
METHOD:PUBLISH
X-WR-CALNAME: 
X-ORIGINAL-URL:https://hcnet.tnf21.com
X-WR-CALDESC:Events for  
REFRESH-INTERVAL;VALUE=DURATION:PT1H
X-Robots-Tag:noindex
X-PUBLISHED-TTL:PT1H
BEGIN:VTIMEZONE
TZID:Europe/Paris
BEGIN:DAYLIGHT
TZOFFSETFROM:+0100
TZOFFSETTO:+0200
TZNAME:CEST
DTSTART:20230326T010000
END:DAYLIGHT
BEGIN:STANDARD
TZOFFSETFROM:+0200
TZOFFSETTO:+0100
TZNAME:CET
DTSTART:20231029T010000
END:STANDARD
END:VTIMEZONE
BEGIN:VEVENT
DTSTART;TZID=Europe/Paris:20230606T210000
DTEND;TZID=Europe/Paris:20230606T233000
DTSTAMP:20260420T013154
CREATED:20230515T141120Z
LAST-MODIFIED:20230515T141342Z
UID:468-1686085200-1686094200@hcnet.tnf21.com
SUMMARY:FEHV Benefit Dinner 2023
DESCRIPTION:Annual 2023 Benefit Dinner for the Foundation for the Study of Viral Hepatitis (FEHV) \, a non-profit organization leader in the field of hepatology at international level\, with the best specialists in liver diseases and molecular biology. In our clinic located in Madrid\, we manage research projects and treat all kinds of liver diseases (autoimmune hepatitis\, cholangitis\, fatty liver\, viral hepatitis\, etc.).
URL:https://hcnet.tnf21.com/event/fehv-benefit-dinner-2023
LOCATION:Hotel Thompson Madrid\, Plaza del Carmen\, S/N\, Madrid\, Madrid\, 28013\, Spain
ORGANIZER;CN="Fundaci%C3%B3n%20para%20el%20Estudio%20de%20las%20Hepatitis%20Virales%20%28FEHV%29":MAILTO:fehv@fehv.org
END:VEVENT
END:VCALENDAR